BEGIN:VCALENDAR
VERSION:2.0
PRODID:-//pretix//pretix.eu//
BEGIN:VTIMEZONE
TZID:Europe/Brussels
BEGIN:STANDARD
DTSTART:20001029T040000
RRULE:FREQ=YEARLY;BYDAY=-1SU;BYMONTH=10
TZNAME:CET
TZOFFSETFROM:+0200
TZOFFSETTO:+0100
END:STANDARD
BEGIN:DAYLIGHT
DTSTART:20000326T030000
RRULE:FREQ=YEARLY;BYDAY=-1SU;BYMONTH=3
TZNAME:CEST
TZOFFSETFROM:+0100
TZOFFSETTO:+0200
END:DAYLIGHT
END:VTIMEZONE
BEGIN:VEVENT
UID:pretix-ambrosia-ticket2025-0@ambrosia.scoutinggodsheide.be
DTSTART;TZID=Europe/Brussels:20250425T210000
DTEND;TZID=Europe/Brussels:20250426T030000
DESCRIPTION:Tickets: https://ambrosia.scoutinggodsheide.be/ticket2025/\nOrg
 anisator: Ambrosia Givers Scouting Godsheide
DTSTAMP:20260420T082149Z
SUMMARY:Ambrosia 2025
END:VEVENT
END:VCALENDAR
